BEGIN:VCALENDAR
VERSION:2.0
PRODID:-//JMK Rostock - Orchesterschule in Rostock - ECPv6.15.19//NONSGML v1.0//EN
CALSCALE:GREGORIAN
METHOD:PUBLISH
X-WR-CALNAME:JMK Rostock - Orchesterschule in Rostock
X-ORIGINAL-URL:https://jmk-rostock.de
X-WR-CALDESC:Veranstaltungen für JMK Rostock - Orchesterschule in Rostock
REFRESH-INTERVAL;VALUE=DURATION:PT1H
X-Robots-Tag:noindex
X-PUBLISHED-TTL:PT1H
BEGIN:VTIMEZONE
TZID:Europe/Berlin
BEGIN:DAYLIGHT
TZOFFSETFROM:+0100
TZOFFSETTO:+0200
TZNAME:CEST
DTSTART:20250330T010000
END:DAYLIGHT
BEGIN:STANDARD
TZOFFSETFROM:+0200
TZOFFSETTO:+0100
TZNAME:CET
DTSTART:20251026T010000
END:STANDARD
BEGIN:DAYLIGHT
TZOFFSETFROM:+0100
TZOFFSETTO:+0200
TZNAME:CEST
DTSTART:20260329T010000
END:DAYLIGHT
BEGIN:STANDARD
TZOFFSETFROM:+0200
TZOFFSETTO:+0100
TZNAME:CET
DTSTART:20261025T010000
END:STANDARD
BEGIN:DAYLIGHT
TZOFFSETFROM:+0100
TZOFFSETTO:+0200
TZNAME:CEST
DTSTART:20270328T010000
END:DAYLIGHT
BEGIN:STANDARD
TZOFFSETFROM:+0200
TZOFFSETTO:+0100
TZNAME:CET
DTSTART:20271031T010000
END:STANDARD
END:VTIMEZONE
BEGIN:VEVENT
DTSTART;TZID=Europe/Berlin:20260614T110000
DTEND;TZID=Europe/Berlin:20260614T113000
DTSTAMP:20260419T160908
CREATED:20260413T105251Z
LAST-MODIFIED:20260413T105251Z
UID:3269-1781434800-1781436600@jmk-rostock.de
SUMMARY:Auftritt Jugendorchester - Rostocker Bürgerbrunch
DESCRIPTION:Zum 13. Mal findet am 14.06.2026 ab 11 Uhr der Rostocker Bürgerbrunch statt. In diesem Jahr ist das Jugendorchester des JMK Rostock zur musikalischen Eröffnung dabei. \nBuchen Sie schnell Ihren Tisch unter www.hrobrunch.de und tun Sie etwas Gutes.
URL:https://jmk-rostock.de/event/auftritt-jugendorchester-rostocker-buergerbrunch-2
LOCATION:Uni-Platz\, Rostock
END:VEVENT
END:VCALENDAR