BEGIN:VCALENDAR
VERSION:2.0
PRODID:-//JMK Rostock - Orchesterschule in Rostock - ECPv6.15.19//NONSGML v1.0//EN
CALSCALE:GREGORIAN
METHOD:PUBLISH
X-WR-CALNAME:JMK Rostock - Orchesterschule in Rostock
X-ORIGINAL-URL:https://jmk-rostock.de
X-WR-CALDESC:Veranstaltungen für JMK Rostock - Orchesterschule in Rostock
REFRESH-INTERVAL;VALUE=DURATION:PT1H
X-Robots-Tag:noindex
X-PUBLISHED-TTL:PT1H
BEGIN:VTIMEZONE
TZID:Europe/Berlin
BEGIN:DAYLIGHT
TZOFFSETFROM:+0100
TZOFFSETTO:+0200
TZNAME:CEST
DTSTART:20240331T010000
END:DAYLIGHT
BEGIN:STANDARD
TZOFFSETFROM:+0200
TZOFFSETTO:+0100
TZNAME:CET
DTSTART:20241027T010000
END:STANDARD
BEGIN:DAYLIGHT
TZOFFSETFROM:+0100
TZOFFSETTO:+0200
TZNAME:CEST
DTSTART:20250330T010000
END:DAYLIGHT
BEGIN:STANDARD
TZOFFSETFROM:+0200
TZOFFSETTO:+0100
TZNAME:CET
DTSTART:20251026T010000
END:STANDARD
BEGIN:DAYLIGHT
TZOFFSETFROM:+0100
TZOFFSETTO:+0200
TZNAME:CEST
DTSTART:20260329T010000
END:DAYLIGHT
BEGIN:STANDARD
TZOFFSETFROM:+0200
TZOFFSETTO:+0100
TZNAME:CET
DTSTART:20261025T010000
END:STANDARD
END:VTIMEZONE
BEGIN:VEVENT
DTSTART;TZID=Europe/Berlin:20251210T163000
DTEND;TZID=Europe/Berlin:20251210T173000
DTSTAMP:20260419T182906
CREATED:20251113T125653Z
LAST-MODIFIED:20251113T125653Z
UID:3107-1765384200-1765387800@jmk-rostock.de
SUMMARY:Adventsmusik
DESCRIPTION:Die Bewohner des Südhus Nord dürfen sich auf einen musikalischen Nachmittag im Advent mit unserem kleinen Weihnachtsbläserensemble freuen.
URL:https://jmk-rostock.de/event/adventsmusik
LOCATION:Südhus Nord\, Zum Erlenholz 8\, Rostock\, 18147\, Germany
END:VEVENT
BEGIN:VEVENT
DTSTART;TZID=Europe/Berlin:20251218T163000
DTEND;TZID=Europe/Berlin:20251218T173000
DTSTAMP:20260419T182906
CREATED:20251113T125809Z
LAST-MODIFIED:20251113T125809Z
UID:3109-1766075400-1766079000@jmk-rostock.de
SUMMARY:Adventsmusik
DESCRIPTION:Die Bewohner des Südhus dürfen sich auf einen musikalischen Nachmittag im Advent mit unserem kleinen Weihnachtsbläserensemble freuen.
URL:https://jmk-rostock.de/event/adventsmusik-2
LOCATION:Südhus\, Brahestr. 40\, Rostock
END:VEVENT
END:VCALENDAR