BEGIN:VCALENDAR
VERSION:2.0
PRODID:-//JMK Rostock - Orchesterschule in Rostock - ECPv6.15.20//NONSGML v1.0//EN
CALSCALE:GREGORIAN
METHOD:PUBLISH
X-WR-CALNAME:JMK Rostock - Orchesterschule in Rostock
X-ORIGINAL-URL:https://jmk-rostock.de
X-WR-CALDESC:Veranstaltungen für JMK Rostock - Orchesterschule in Rostock
REFRESH-INTERVAL;VALUE=DURATION:PT1H
X-Robots-Tag:noindex
X-PUBLISHED-TTL:PT1H
BEGIN:VTIMEZONE
TZID:Europe/Berlin
BEGIN:DAYLIGHT
TZOFFSETFROM:+0100
TZOFFSETTO:+0200
TZNAME:CEST
DTSTART:20250330T010000
END:DAYLIGHT
BEGIN:STANDARD
TZOFFSETFROM:+0200
TZOFFSETTO:+0100
TZNAME:CET
DTSTART:20251026T010000
END:STANDARD
BEGIN:DAYLIGHT
TZOFFSETFROM:+0100
TZOFFSETTO:+0200
TZNAME:CEST
DTSTART:20260329T010000
END:DAYLIGHT
BEGIN:STANDARD
TZOFFSETFROM:+0200
TZOFFSETTO:+0100
TZNAME:CET
DTSTART:20261025T010000
END:STANDARD
BEGIN:DAYLIGHT
TZOFFSETFROM:+0100
TZOFFSETTO:+0200
TZNAME:CEST
DTSTART:20270328T010000
END:DAYLIGHT
BEGIN:STANDARD
TZOFFSETFROM:+0200
TZOFFSETTO:+0100
TZNAME:CET
DTSTART:20271031T010000
END:STANDARD
END:VTIMEZONE
BEGIN:VEVENT
DTSTART;TZID=Europe/Berlin:20261102T160000
DTEND;TZID=Europe/Berlin:20261102T190000
DTSTAMP:20260425T181432
CREATED:20260309T160246Z
LAST-MODIFIED:20260309T160736Z
UID:3217-1793635200-1793646000@jmk-rostock.de
SUMMARY:Laternenumzug
DESCRIPTION:Laternenumzug der St. Georg Grundschule Rostock\, St.-Georg-Str. 63c\, 18055 Rostock (Die Uhrzeit steht noch nicht fest.)
URL:https://jmk-rostock.de/event/laternenumzug
LOCATION:St. Georg Grundschule Rostock\, St.-Georg-Str. 63c\, Rostock\, 18055
END:VEVENT
BEGIN:VEVENT
DTSTART;TZID=Europe/Berlin:20261104T170000
DTEND;TZID=Europe/Berlin:20261104T173000
DTSTAMP:20260425T181432
CREATED:20251124T145322Z
LAST-MODIFIED:20260316T145946Z
UID:3121-1793811600-1793813400@jmk-rostock.de
SUMMARY:Laternenumzug
DESCRIPTION:Laternenumzug zum Lichterfest der Kita „Am Schulcampus“\, Vicke-Schorler-Ring 94\, 18055 Rostock
URL:https://jmk-rostock.de/event/lichterfest
LOCATION:Kita „Am Schulcampus“\, Vicke-Schorler-Ring 94\, Rostock\, 18055
END:VEVENT
BEGIN:VEVENT
DTSTART;TZID=Europe/Berlin:20261109T174500
DTEND;TZID=Europe/Berlin:20261109T181500
DTSTAMP:20260425T181432
CREATED:20260413T110312Z
LAST-MODIFIED:20260413T110312Z
UID:3273-1794246300-1794248100@jmk-rostock.de
SUMMARY:Auftritt Jugendorchester - DER KLANG DER DENKSTEINE
DESCRIPTION:Der „Klang der Stolpersteine“ ist eine jährlich stattfindende Veranstaltung zum Gedenken an die Pogromnacht und den Holocaust\, die in Jena ins Leben gerufen wurde. \nAn den Denksteinen finden um 17.45 Uhr kleine Konzerte statt. Um 18.15 Uhr wird dann „Dos Kelbl“ (Jiddisches Lied) gemeinsam gesungen. \nAm Denkstein am Neuen Markt 1 hören Sie in diesem Jahr unser Jugendorchester.
URL:https://jmk-rostock.de/event/auftritt-jugendorchester-der-klang-der-denksteine
LOCATION:Neuer Markt Rostock\, Neuer Markt\, Rostock
END:VEVENT
BEGIN:VEVENT
DTSTART;TZID=Europe/Berlin:20261112T170000
DTEND;TZID=Europe/Berlin:20261112T190000
DTSTAMP:20260425T181432
CREATED:20260413T104512Z
LAST-MODIFIED:20260413T104512Z
UID:3262-1794502800-1794510000@jmk-rostock.de
SUMMARY:Laternenumzug
DESCRIPTION:Laternenumzug der Kindertagesstätte Waldemarstraße\, Waldemarstraße 33\, 18057 Rostock (Die Uhrzeit steht noch nicht fest.)
URL:https://jmk-rostock.de/event/laternenumzug-2
LOCATION:Kindertagesstätte Waldemarstraße\, Waldemarstraße 33\, Rostock\, 18057
END:VEVENT
BEGIN:VEVENT
DTSTART;TZID=Europe/Berlin:20261114T100000
DTEND;TZID=Europe/Berlin:20261114T150000
DTSTAMP:20260425T181432
CREATED:20251113T140047Z
LAST-MODIFIED:20260128T165355Z
UID:3114-1794650400-1794668400@jmk-rostock.de
SUMMARY:KuNO Probentag
DESCRIPTION:
URL:https://jmk-rostock.de/event/kuno-probentag-2
LOCATION:RFZ Rostock\, Kuphalstr. 77\, Rostock
END:VEVENT
BEGIN:VEVENT
DTSTART;TZID=Europe/Berlin:20261121T100000
DTEND;TZID=Europe/Berlin:20261121T160000
DTSTAMP:20260425T181432
CREATED:20251113T140132Z
LAST-MODIFIED:20260128T165442Z
UID:3116-1795255200-1795276800@jmk-rostock.de
SUMMARY:Probentag Jugendorchester
DESCRIPTION:
URL:https://jmk-rostock.de/event/probentag-jugendorchester-3
LOCATION:RFZ Rostock\, Kuphalstr. 77\, Rostock
END:VEVENT
END:VCALENDAR