BEGIN:VCALENDAR
VERSION:2.0
PRODID:-//JMK Rostock - Orchesterschule in Rostock - ECPv6.15.20//NONSGML v1.0//EN
CALSCALE:GREGORIAN
METHOD:PUBLISH
X-ORIGINAL-URL:https://jmk-rostock.de
X-WR-CALDESC:Veranstaltungen für JMK Rostock - Orchesterschule in Rostock
REFRESH-INTERVAL;VALUE=DURATION:PT1H
X-Robots-Tag:noindex
X-PUBLISHED-TTL:PT1H
BEGIN:VTIMEZONE
TZID:Europe/Berlin
BEGIN:DAYLIGHT
TZOFFSETFROM:+0100
TZOFFSETTO:+0200
TZNAME:CEST
DTSTART:20250330T010000
END:DAYLIGHT
BEGIN:STANDARD
TZOFFSETFROM:+0200
TZOFFSETTO:+0100
TZNAME:CET
DTSTART:20251026T010000
END:STANDARD
BEGIN:DAYLIGHT
TZOFFSETFROM:+0100
TZOFFSETTO:+0200
TZNAME:CEST
DTSTART:20260329T010000
END:DAYLIGHT
BEGIN:STANDARD
TZOFFSETFROM:+0200
TZOFFSETTO:+0100
TZNAME:CET
DTSTART:20261025T010000
END:STANDARD
BEGIN:DAYLIGHT
TZOFFSETFROM:+0100
TZOFFSETTO:+0200
TZNAME:CEST
DTSTART:20270328T010000
END:DAYLIGHT
BEGIN:STANDARD
TZOFFSETFROM:+0200
TZOFFSETTO:+0100
TZNAME:CET
DTSTART:20271031T010000
END:STANDARD
END:VTIMEZONE
BEGIN:VEVENT
DTSTART;TZID=Europe/Berlin:20261109T174500
DTEND;TZID=Europe/Berlin:20261109T181500
DTSTAMP:20260425T193128
CREATED:20260413T110312Z
LAST-MODIFIED:20260413T110312Z
UID:3273-1794246300-1794248100@jmk-rostock.de
SUMMARY:Auftritt Jugendorchester - DER KLANG DER DENKSTEINE
DESCRIPTION:Der „Klang der Stolpersteine“ ist eine jährlich stattfindende Veranstaltung zum Gedenken an die Pogromnacht und den Holocaust\, die in Jena ins Leben gerufen wurde. \nAn den Denksteinen finden um 17.45 Uhr kleine Konzerte statt. Um 18.15 Uhr wird dann „Dos Kelbl“ (Jiddisches Lied) gemeinsam gesungen. \nAm Denkstein am Neuen Markt 1 hören Sie in diesem Jahr unser Jugendorchester.
URL:https://jmk-rostock.de/event/auftritt-jugendorchester-der-klang-der-denksteine
LOCATION:Neuer Markt Rostock\, Neuer Markt\, Rostock
END:VEVENT
END:VCALENDAR