BEGIN:VCALENDAR
VERSION:2.0
PRODID:-//JMK Rostock - Orchesterschule in Rostock - ECPv6.15.20//NONSGML v1.0//EN
CALSCALE:GREGORIAN
METHOD:PUBLISH
X-WR-CALNAME:JMK Rostock - Orchesterschule in Rostock
X-ORIGINAL-URL:https://jmk-rostock.de
X-WR-CALDESC:Veranstaltungen für JMK Rostock - Orchesterschule in Rostock
REFRESH-INTERVAL;VALUE=DURATION:PT1H
X-Robots-Tag:noindex
X-PUBLISHED-TTL:PT1H
BEGIN:VTIMEZONE
TZID:Europe/Berlin
BEGIN:DAYLIGHT
TZOFFSETFROM:+0100
TZOFFSETTO:+0200
TZNAME:CEST
DTSTART:20250330T010000
END:DAYLIGHT
BEGIN:STANDARD
TZOFFSETFROM:+0200
TZOFFSETTO:+0100
TZNAME:CET
DTSTART:20251026T010000
END:STANDARD
BEGIN:DAYLIGHT
TZOFFSETFROM:+0100
TZOFFSETTO:+0200
TZNAME:CEST
DTSTART:20260329T010000
END:DAYLIGHT
BEGIN:STANDARD
TZOFFSETFROM:+0200
TZOFFSETTO:+0100
TZNAME:CET
DTSTART:20261025T010000
END:STANDARD
BEGIN:DAYLIGHT
TZOFFSETFROM:+0100
TZOFFSETTO:+0200
TZNAME:CEST
DTSTART:20270328T010000
END:DAYLIGHT
BEGIN:STANDARD
TZOFFSETFROM:+0200
TZOFFSETTO:+0100
TZNAME:CET
DTSTART:20271031T010000
END:STANDARD
END:VTIMEZONE
BEGIN:VEVENT
DTSTART;TZID=Europe/Berlin:20261102T160000
DTEND;TZID=Europe/Berlin:20261102T190000
DTSTAMP:20260425T192846
CREATED:20260309T160246Z
LAST-MODIFIED:20260309T160736Z
UID:3217-1793635200-1793646000@jmk-rostock.de
SUMMARY:Laternenumzug
DESCRIPTION:Laternenumzug der St. Georg Grundschule Rostock\, St.-Georg-Str. 63c\, 18055 Rostock (Die Uhrzeit steht noch nicht fest.)
URL:https://jmk-rostock.de/event/laternenumzug
LOCATION:St. Georg Grundschule Rostock\, St.-Georg-Str. 63c\, Rostock\, 18055
END:VEVENT
END:VCALENDAR